BEGIN:VCALENDAR
VERSION:2.0
PRODID:-//Houston Gymnastics Academy - ECPv6.15.0.1//NONSGML v1.0//EN
CALSCALE:GREGORIAN
METHOD:PUBLISH
X-WR-CALNAME:Houston Gymnastics Academy
X-ORIGINAL-URL:https://houstongymnastics.com
X-WR-CALDESC:Events for Houston Gymnastics Academy
REFRESH-INTERVAL;VALUE=DURATION:PT1H
X-Robots-Tag:noindex
X-PUBLISHED-TTL:PT1H
BEGIN:VTIMEZONE
TZID:UTC
BEGIN:STANDARD
TZOFFSETFROM:+0000
TZOFFSETTO:+0000
TZNAME:UTC
DTSTART:20260101T000000
END:STANDARD
END:VTIMEZONE
BEGIN:VEVENT
DTSTART;TZID=UTC:20260425T180000
DTEND;TZID=UTC:20260425T213000
DTSTAMP:20260425T124723
CREATED:20260106T220419Z
LAST-MODIFIED:20260106T220420Z
UID:10000473-1777140000-1777152600@houstongymnastics.com
SUMMARY:Pajama Jam | Kids Night Out | Ages 4-12 | Apr 25
DESCRIPTION:Pajama Jam Kids Night Out \nApril 25\, 2026 \nAges 4-12 \n$40 for 1 child or $35 for 2 or more siblings \nTake the night off while we keep your kids entertained with nonstop fun! At Kid’s Night Out\, we’ll have open play\, games\, gymnastics\, ninja\, crafts and a pizza dinner! Each Kid’s Night Out has an exciting theme\, keeping the kids engaged while you enjoy a night out.
URL:https://houstongymnastics.com/event/pajama-jam-kids-night-out-ages-4-12-apr-25/
LOCATION:Houston Gymnastics Academy\, 5201 Gulfton St\, Houston\, TX\, 77081\, United States
CATEGORIES:Kids Night Out
ORGANIZER;CN="Houston Gymnastics Academy":MAILTO:info@houstongymnastics.com
GEO:29.712099;-95.480935
X-APPLE-STRUCTURED-LOCATION;VALUE=URI;X-ADDRESS=Houston Gymnastics Academy 5201 Gulfton St Houston TX 77081 United States;X-APPLE-RADIUS=500;X-TITLE=5201 Gulfton St:geo:-95.480935,29.712099
END:VEVENT
BEGIN:VEVENT
DTSTART;TZID=UTC:20260426T140000
DTEND;TZID=UTC:20260426T150000
DTSTAMP:20260425T124723
CREATED:20260311T160416Z
LAST-MODIFIED:20260311T160417Z
UID:10000569-1777212000-1777215600@houstongymnastics.com
SUMMARY:Bars Clinic | Ages 5-17 | April 26 | 2pm
DESCRIPTION:Bars Clinic  \nSunday\, April 26\, 2026 @ 2pm \nAges 5-17  \n$30 per child for 1 hour. \nOur specialized clinics provide students with the opportunity to work with our experienced coaches on new drills and techniques to take their skills to the next level.
URL:https://houstongymnastics.com/event/bars-clinic-ages-5-17-april-26-2pm/
LOCATION:Houston Gymnastics Academy\, 5201 Gulfton St\, Houston\, TX\, 77081\, United States
CATEGORIES:Clinics
ORGANIZER;CN="Houston Gymnastics Academy":MAILTO:info@houstongymnastics.com
GEO:29.712099;-95.480935
X-APPLE-STRUCTURED-LOCATION;VALUE=URI;X-ADDRESS=Houston Gymnastics Academy 5201 Gulfton St Houston TX 77081 United States;X-APPLE-RADIUS=500;X-TITLE=5201 Gulfton St:geo:-95.480935,29.712099
END:VEVENT
END:VCALENDAR