BEGIN:VCALENDAR
VERSION:2.0
PRODID:-//Houston Gymnastics Academy - ECPv6.15.0.1//NONSGML v1.0//EN
CALSCALE:GREGORIAN
METHOD:PUBLISH
X-ORIGINAL-URL:https://houstongymnastics.com
X-WR-CALDESC:Events for Houston Gymnastics Academy
REFRESH-INTERVAL;VALUE=DURATION:PT1H
X-Robots-Tag:noindex
X-PUBLISHED-TTL:PT1H
BEGIN:VTIMEZONE
TZID:UTC
BEGIN:STANDARD
TZOFFSETFROM:+0000
TZOFFSETTO:+0000
TZNAME:UTC
DTSTART:20260101T000000
END:STANDARD
END:VTIMEZONE
BEGIN:VEVENT
DTSTART;TZID=UTC:20260619T180000
DTEND;TZID=UTC:20260619T190000
DTSTAMP:20260425T102233
CREATED:20260311T160432Z
LAST-MODIFIED:20260311T160432Z
UID:10000572-1781892000-1781895600@houstongymnastics.com
SUMMARY:Open Gym | Ages 7-17 | June 19
DESCRIPTION:Open Gym  \nFriday June 19\, 2026 from 6-7pm \nAges 7-17 \n$20 \nOur open gym provides students with the opportunity to work with our experienced coaches on any skills or apparatuses in the gym. It allows the student for additional time and support on a skill or trick outside of class.
URL:https://houstongymnastics.com/event/open-gym-ages-7-17-june-19/
LOCATION:Houston Gymnastics Academy\, 5201 Gulfton St\, Houston\, TX\, 77081\, United States
CATEGORIES:Open Gym
ORGANIZER;CN="Houston Gymnastics Academy":MAILTO:info@houstongymnastics.com
GEO:29.712099;-95.480935
X-APPLE-STRUCTURED-LOCATION;VALUE=URI;X-ADDRESS=Houston Gymnastics Academy 5201 Gulfton St Houston TX 77081 United States;X-APPLE-RADIUS=500;X-TITLE=5201 Gulfton St:geo:-95.480935,29.712099
END:VEVENT
BEGIN:VEVENT
DTSTART;TZID=UTC:20260717T180000
DTEND;TZID=UTC:20260717T190000
DTSTAMP:20260425T102233
CREATED:20260311T160432Z
LAST-MODIFIED:20260311T160432Z
UID:10000573-1784311200-1784314800@houstongymnastics.com
SUMMARY:Open Gym | Ages 7-17 | July 17
DESCRIPTION:Open Gym \nFriday July 17\, 2026 from 6-7pm \nAges 7-17 \n$20 \nOur open gym provides students with the opportunity to work with our experienced coaches on any skills or apparatuses in the gym. It allows the student for additional time and support on a skill or trick outside of class.
URL:https://houstongymnastics.com/event/open-gym-ages-7-17-july-17/
LOCATION:Houston Gymnastics Academy\, 5201 Gulfton St\, Houston\, TX\, 77081\, United States
CATEGORIES:Open Gym
ORGANIZER;CN="Houston Gymnastics Academy":MAILTO:info@houstongymnastics.com
GEO:29.712099;-95.480935
X-APPLE-STRUCTURED-LOCATION;VALUE=URI;X-ADDRESS=Houston Gymnastics Academy 5201 Gulfton St Houston TX 77081 United States;X-APPLE-RADIUS=500;X-TITLE=5201 Gulfton St:geo:-95.480935,29.712099
END:VEVENT
BEGIN:VEVENT
DTSTART;TZID=UTC:20260821T180000
DTEND;TZID=UTC:20260821T190000
DTSTAMP:20260425T102233
CREATED:20260311T160432Z
LAST-MODIFIED:20260311T160432Z
UID:10000574-1787335200-1787338800@houstongymnastics.com
SUMMARY:Open Gym | Ages 7-17 | Aug 21
DESCRIPTION:Open Gym \nFriday August 21\, 2026 from 6-7pm \nAges 7-17 \n$20 \nOur open gym provides students with the opportunity to work with our experienced coaches on any skills or apparatuses in the gym. It allows the student for additional time and support on a skill or trick outside of class.
URL:https://houstongymnastics.com/event/open-gym-ages-7-17-aug-21/
LOCATION:Houston Gymnastics Academy\, 5201 Gulfton St\, Houston\, TX\, 77081\, United States
CATEGORIES:Open Gym
ORGANIZER;CN="Houston Gymnastics Academy":MAILTO:info@houstongymnastics.com
GEO:29.712099;-95.480935
X-APPLE-STRUCTURED-LOCATION;VALUE=URI;X-ADDRESS=Houston Gymnastics Academy 5201 Gulfton St Houston TX 77081 United States;X-APPLE-RADIUS=500;X-TITLE=5201 Gulfton St:geo:-95.480935,29.712099
END:VEVENT
END:VCALENDAR