BEGIN:VCALENDAR
VERSION:2.0
PRODID:-//Houston Gymnastics Academy - ECPv6.15.0.1//NONSGML v1.0//EN
CALSCALE:GREGORIAN
METHOD:PUBLISH
X-ORIGINAL-URL:https://houstongymnastics.com
X-WR-CALDESC:Events for Houston Gymnastics Academy
REFRESH-INTERVAL;VALUE=DURATION:PT1H
X-Robots-Tag:noindex
X-PUBLISHED-TTL:PT1H
BEGIN:VTIMEZONE
TZID:UTC
BEGIN:STANDARD
TZOFFSETFROM:+0000
TZOFFSETTO:+0000
TZNAME:UTC
DTSTART:20260101T000000
END:STANDARD
END:VTIMEZONE
BEGIN:VEVENT
DTSTART;TZID=UTC:20260310T090000
DTEND;TZID=UTC:20260313T150000
DTSTAMP:20260420T120403
CREATED:20251203T200820Z
LAST-MODIFIED:20260105T174134Z
UID:10000067-1773133200-1773414000@houstongymnastics.com
SUMMARY:Spring Break Camp | Ages 4-12 | Mar 9-13
DESCRIPTION:Spring Break Camp \nMarch 9-13\, 2026 \nAges 4-12 \n$80 per day or $375 for the week \nSchool’s out and camp is in! Learn gymnastics or ninja skills\, play exciting games\, and make new friends at our gymnastics and ninja camp. Campers will participate in structured rotations on vault\, bars\, beam and floor\, as well as open gym\, crafts and group activities with our skilled staff. No experience is required to join the fun. \nComfortable clothing required. Nothing with buttons or zippers. Leotards are optional. Hair tied back and out of face and no jewelry. We also go barefoot inside the gym. \nPlease bring a lunch and water bottle. We will provide a morning snack.
URL:https://houstongymnastics.com/event/spring-break-camp-ages-4-12-mar-9-13/
LOCATION:Houston Gymnastics Academy\, 5201 Gulfton St\, Houston\, TX\, 77081\, United States
CATEGORIES:Camp
ORGANIZER;CN="Houston Gymnastics Academy":MAILTO:info@houstongymnastics.com
GEO:29.712099;-95.480935
X-APPLE-STRUCTURED-LOCATION;VALUE=URI;X-ADDRESS=Houston Gymnastics Academy 5201 Gulfton St Houston TX 77081 United States;X-APPLE-RADIUS=500;X-TITLE=5201 Gulfton St:geo:-95.480935,29.712099
END:VEVENT
BEGIN:VEVENT
DTSTART;TZID=UTC:20260310T090000
DTEND;TZID=UTC:20260313T150000
DTSTAMP:20260420T120403
CREATED:20260313T150440Z
LAST-MODIFIED:20260313T150440Z
UID:10000583-1773133200-1773414000@houstongymnastics.com
SUMMARY:Spring Break Camp | Ages 4-12 | Mar 9-13
DESCRIPTION:Spring Break Camp \nMarch 9-13\, 2026 \nAges 4-12 \n$90 per day or $400 for the week \nSchool’s out and camp is in! Learn gymnastics or ninja skills\, play exciting games\, and make new friends at our gymnastics and ninja camp. Campers will participate in structured rotations on vault\, bars\, beam and floor\, as well as open gym\, crafts and group activities with our skilled staff. No experience is required to join the fun. \nComfortable clothing required. Nothing with buttons or zippers. Leotards are optional. Hair tied back and out of face and no jewelry. We also go barefoot inside the gym. \nPlease bring a lunch and water bottle. We will provide a morning snack.
URL:https://houstongymnastics.com/event/spring-break-camp-ages-4-12-mar-9-13-2/
LOCATION:Houston Gymnastics Academy\, 5201 Gulfton St\, Houston\, TX\, 77081\, United States
CATEGORIES:Camp
ORGANIZER;CN="Houston Gymnastics Academy":MAILTO:info@houstongymnastics.com
GEO:29.712099;-95.480935
X-APPLE-STRUCTURED-LOCATION;VALUE=URI;X-ADDRESS=Houston Gymnastics Academy 5201 Gulfton St Houston TX 77081 United States;X-APPLE-RADIUS=500;X-TITLE=5201 Gulfton St:geo:-95.480935,29.712099
END:VEVENT
BEGIN:VEVENT
DTSTART;TZID=UTC:20260310T090000
DTEND;TZID=UTC:20260313T150000
DTSTAMP:20260420T120403
CREATED:20260313T160420Z
LAST-MODIFIED:20260313T160420Z
UID:10000584-1773133200-1773414000@houstongymnastics.com
SUMMARY:Spring Break Camp | Ages 4-12 | Mar 9-13
DESCRIPTION:Spring Break Camp \nMarch 9-13\, 2026 \nAges 4-12 \n$90 per day or $400 for the week \nSchool’s out and camp is in! Learn gymnastics or ninja skills\, play exciting games\, and make new friends at our gymnastics and ninja camp. Campers will participate in structured rotations on vault\, bars\, beam and floor\, as well as open gym\, crafts and group activities with our skilled staff. No experience is required to join the fun. \nComfortable clothing required. Nothing with buttons or zippers. Leotards are optional. Hair tied back and out of face and no jewelry. We also go barefoot inside the gym. \nPlease bring a lunch and water bottle. We will provide a morning snack.
URL:https://houstongymnastics.com/event/spring-break-camp-ages-4-12-mar-9-13-3/
LOCATION:Houston Gymnastics Academy\, 5201 Gulfton St\, Houston\, TX\, 77081\, United States
CATEGORIES:Camp
ORGANIZER;CN="Houston Gymnastics Academy":MAILTO:info@houstongymnastics.com
GEO:29.712099;-95.480935
X-APPLE-STRUCTURED-LOCATION;VALUE=URI;X-ADDRESS=Houston Gymnastics Academy 5201 Gulfton St Houston TX 77081 United States;X-APPLE-RADIUS=500;X-TITLE=5201 Gulfton St:geo:-95.480935,29.712099
END:VEVENT
BEGIN:VEVENT
DTSTART;TZID=UTC:20260310T090000
DTEND;TZID=UTC:20260313T150000
DTSTAMP:20260420T120403
CREATED:20260313T170409Z
LAST-MODIFIED:20260313T170409Z
UID:10000585-1773133200-1773414000@houstongymnastics.com
SUMMARY:Spring Break Camp | Ages 4-12 | Mar 9-13
DESCRIPTION:Spring Break Camp \nMarch 9-13\, 2026 \nAges 4-12 \n$90 per day or $400 for the week \nSchool’s out and camp is in! Learn gymnastics or ninja skills\, play exciting games\, and make new friends at our gymnastics and ninja camp. Campers will participate in structured rotations on vault\, bars\, beam and floor\, as well as open gym\, crafts and group activities with our skilled staff. No experience is required to join the fun. \nComfortable clothing required. Nothing with buttons or zippers. Leotards are optional. Hair tied back and out of face and no jewelry. We also go barefoot inside the gym. \nPlease bring a lunch and water bottle. We will provide a morning snack.
URL:https://houstongymnastics.com/event/spring-break-camp-ages-4-12-mar-9-13-4/
LOCATION:Houston Gymnastics Academy\, 5201 Gulfton St\, Houston\, TX\, 77081\, United States
CATEGORIES:Camp
ORGANIZER;CN="Houston Gymnastics Academy":MAILTO:info@houstongymnastics.com
GEO:29.712099;-95.480935
X-APPLE-STRUCTURED-LOCATION;VALUE=URI;X-ADDRESS=Houston Gymnastics Academy 5201 Gulfton St Houston TX 77081 United States;X-APPLE-RADIUS=500;X-TITLE=5201 Gulfton St:geo:-95.480935,29.712099
END:VEVENT
BEGIN:VEVENT
DTSTART;TZID=UTC:20260310T090000
DTEND;TZID=UTC:20260313T150000
DTSTAMP:20260420T120403
CREATED:20260313T180355Z
LAST-MODIFIED:20260313T180356Z
UID:10000586-1773133200-1773414000@houstongymnastics.com
SUMMARY:Spring Break Camp | Ages 4-12 | Mar 9-13
DESCRIPTION:Spring Break Camp \nMarch 9-13\, 2026 \nAges 4-12 \n$90 per day or $400 for the week \nSchool’s out and camp is in! Learn gymnastics or ninja skills\, play exciting games\, and make new friends at our gymnastics and ninja camp. Campers will participate in structured rotations on vault\, bars\, beam and floor\, as well as open gym\, crafts and group activities with our skilled staff. No experience is required to join the fun. \nComfortable clothing required. Nothing with buttons or zippers. Leotards are optional. Hair tied back and out of face and no jewelry. We also go barefoot inside the gym. \nPlease bring a lunch and water bottle. We will provide a morning snack.
URL:https://houstongymnastics.com/event/spring-break-camp-ages-4-12-mar-9-13-5/
LOCATION:Houston Gymnastics Academy\, 5201 Gulfton St\, Houston\, TX\, 77081\, United States
CATEGORIES:Camp
ORGANIZER;CN="Houston Gymnastics Academy":MAILTO:info@houstongymnastics.com
GEO:29.712099;-95.480935
X-APPLE-STRUCTURED-LOCATION;VALUE=URI;X-ADDRESS=Houston Gymnastics Academy 5201 Gulfton St Houston TX 77081 United States;X-APPLE-RADIUS=500;X-TITLE=5201 Gulfton St:geo:-95.480935,29.712099
END:VEVENT
BEGIN:VEVENT
DTSTART;TZID=UTC:20260310T090000
DTEND;TZID=UTC:20260313T150000
DTSTAMP:20260420T120403
CREATED:20260313T190458Z
LAST-MODIFIED:20260313T190458Z
UID:10000587-1773133200-1773414000@houstongymnastics.com
SUMMARY:Spring Break Camp | Ages 4-12 | Mar 9-13
DESCRIPTION:Spring Break Camp \nMarch 9-13\, 2026 \nAges 4-12 \n$90 per day or $400 for the week \nSchool’s out and camp is in! Learn gymnastics or ninja skills\, play exciting games\, and make new friends at our gymnastics and ninja camp. Campers will participate in structured rotations on vault\, bars\, beam and floor\, as well as open gym\, crafts and group activities with our skilled staff. No experience is required to join the fun. \nComfortable clothing required. Nothing with buttons or zippers. Leotards are optional. Hair tied back and out of face and no jewelry. We also go barefoot inside the gym. \nPlease bring a lunch and water bottle. We will provide a morning snack.
URL:https://houstongymnastics.com/event/spring-break-camp-ages-4-12-mar-9-13-6/
LOCATION:Houston Gymnastics Academy\, 5201 Gulfton St\, Houston\, TX\, 77081\, United States
CATEGORIES:Camp
ORGANIZER;CN="Houston Gymnastics Academy":MAILTO:info@houstongymnastics.com
GEO:29.712099;-95.480935
X-APPLE-STRUCTURED-LOCATION;VALUE=URI;X-ADDRESS=Houston Gymnastics Academy 5201 Gulfton St Houston TX 77081 United States;X-APPLE-RADIUS=500;X-TITLE=5201 Gulfton St:geo:-95.480935,29.712099
END:VEVENT
END:VCALENDAR